BEGIN:VCALENDAR
VERSION:2.0
PRODID:-//hacksw/handcal//NONSGML v1.0//EN
CALSCALE:GREGORIAN
BEGIN:VEVENT
SUMMARY:Breeding Resources Initiative Townhall
LOCATION:
DESCRIPTION:
DTSTART:20221110T000000Z
DTEND:20221110T000000Z
URL;VALUE=URI:
DTSTAMP:20260424T065750Z
UID:69eb146e73bf3
END:VEVENT
END:VCALENDAR