BEGIN:VCALENDAR
VERSION:2.0
PRODID:-//hacksw/handcal//NONSGML v1.0//EN
CALSCALE:GREGORIAN
BEGIN:VEVENT
SUMMARY:Ethiopia CGIAR Launch: How science can contribute to food systems transformation
LOCATION:
DESCRIPTION:
DTSTART:20230330T000000Z
DTEND:20230330T000000Z
URL;VALUE=URI:
DTSTAMP:20260426T013911Z
UID:69ed6cbf28096
END:VEVENT
END:VCALENDAR