BEGIN:VCALENDAR
VERSION:2.0
PRODID:-//hacksw/handcal//NONSGML v1.0//EN
CALSCALE:GREGORIAN
BEGIN:VEVENT
SUMMARY:High-level Ministerial on the Agriculture Breakthrough
LOCATION:
DESCRIPTION:
DTSTART:20230509T000000Z
DTEND:20230509T000000Z
URL;VALUE=URI:
DTSTAMP:20260420T215543Z
UID:69e6a0df5ffd5
END:VEVENT
END:VCALENDAR