BEGIN:VCALENDAR
VERSION:2.0
PRODID:-//hacksw/handcal//NONSGML v1.0//EN
CALSCALE:GREGORIAN
BEGIN:VEVENT
SUMMARY:3rd African Plant Breeders Association (APBA) Conference
LOCATION:
DESCRIPTION:
DTSTART:20231023T000000Z
DTEND:20231027T000000Z
URL;VALUE=URI:
DTSTAMP:20260425T192558Z
UID:69ed15466a7fd
END:VEVENT
END:VCALENDAR