BEGIN:VCALENDAR
VERSION:2.0
PRODID:-//hacksw/handcal//NONSGML v1.0//EN
CALSCALE:GREGORIAN
BEGIN:VEVENT
SUMMARY:Global launch of IFPRI&#8217\;s 2023 Global Food Policy Report: Rethinking Food Crisis Responses
LOCATION:
DESCRIPTION:
DTSTART:20230413T000000Z
DTEND:20230413T000000Z
URL;VALUE=URI:
DTSTAMP:20260425T192554Z
UID:69ed1542da2f6
END:VEVENT
END:VCALENDAR