BEGIN:VCALENDAR
VERSION:2.0
PRODID:-//hacksw/handcal//NONSGML v1.0//EN
CALSCALE:GREGORIAN
BEGIN:VEVENT
SUMMARY:Science and Innovation for Food Systems Transformation: Follow up to the 2021 UN Food Systems Summit
LOCATION:
DESCRIPTION:
DTSTART:20230411T000000Z
DTEND:20230411T000000Z
URL;VALUE=URI:
DTSTAMP:20260420T224326Z
UID:69e6ac0e52364
END:VEVENT
END:VCALENDAR