BEGIN:VCALENDAR
VERSION:2.0
PRODID:-//hacksw/handcal//NONSGML v1.0//EN
CALSCALE:GREGORIAN
BEGIN:VEVENT
SUMMARY:G20 Agricultural Chief Scientists (MACS)
LOCATION:
DESCRIPTION:
DTSTART:20230417T000000Z
DTEND:20230423T000000Z
URL;VALUE=URI:
DTSTAMP:20260421T071514Z
UID:69e7240219597
END:VEVENT
END:VCALENDAR