BEGIN:VCALENDAR
VERSION:2.0
PRODID:-//hacksw/handcal//NONSGML v1.0//EN
CALSCALE:GREGORIAN
BEGIN:VEVENT
SUMMARY:Climate Change Research – Meet the Scientists Event and Reception
LOCATION:
DESCRIPTION:
DTSTART:20230509T000000Z
DTEND:20230509T000000Z
URL;VALUE=URI:
DTSTAMP:20260424T135354Z
UID:69eb75f2c1f7c
END:VEVENT
END:VCALENDAR