BEGIN:VCALENDAR
VERSION:2.0
PRODID:-//hacksw/handcal//NONSGML v1.0//EN
CALSCALE:GREGORIAN
BEGIN:VEVENT
SUMMARY:WEF Nexus Training: Online Masterclass
LOCATION:
DESCRIPTION:
DTSTART:20230613T000000Z
DTEND:20230615T000000Z
URL;VALUE=URI:
DTSTAMP:20260420T224311Z
UID:69e6abffdea10
END:VEVENT
END:VCALENDAR