BEGIN:VCALENDAR
VERSION:2.0
PRODID:-//hacksw/handcal//NONSGML v1.0//EN
CALSCALE:GREGORIAN
BEGIN:VEVENT
SUMMARY:CGIAR Initiative on One Health Annual Planning Meeting
LOCATION:
DESCRIPTION:
DTSTART:20230424T000000Z
DTEND:20230426T000000Z
URL;VALUE=URI:
DTSTAMP:20260420T141449Z
UID:69e634d93da19
END:VEVENT
END:VCALENDAR