BEGIN:VCALENDAR
VERSION:2.0
PRODID:-//hacksw/handcal//NONSGML v1.0//EN
CALSCALE:GREGORIAN
BEGIN:VEVENT
SUMMARY:Genetic Innovation Forum 2023
LOCATION:
DESCRIPTION:
DTSTART:20231017T000000Z
DTEND:20231019T000000Z
URL;VALUE=URI:
DTSTAMP:20260420T224316Z
UID:69e6ac04580e9
END:VEVENT
END:VCALENDAR