BEGIN:VCALENDAR
VERSION:2.0
PRODID:-//hacksw/handcal//NONSGML v1.0//EN
CALSCALE:GREGORIAN
BEGIN:VEVENT
SUMMARY:WEF Nexus Training: In-person Advanced School for MENA region
LOCATION:
DESCRIPTION:
DTSTART:20230910T000000Z
DTEND:20230914T000000Z
URL;VALUE=URI:
DTSTAMP:20260420T224321Z
UID:69e6ac095b5bb
END:VEVENT
END:VCALENDAR