BEGIN:VCALENDAR
VERSION:2.0
PRODID:-//hacksw/handcal//NONSGML v1.0//EN
CALSCALE:GREGORIAN
BEGIN:VEVENT
SUMMARY:Launch Event: Impact Evaluation of Social Protection Programs
LOCATION:
DESCRIPTION:
DTSTART:20230507T000000Z
DTEND:20230507T000000Z
URL;VALUE=URI:
DTSTAMP:20260423T200610Z
UID:69ea7bb27b388
END:VEVENT
END:VCALENDAR