BEGIN:VCALENDAR
VERSION:2.0
PRODID:-//hacksw/handcal//NONSGML v1.0//EN
CALSCALE:GREGORIAN
BEGIN:VEVENT
SUMMARY:Catalysing Coherence: CGIAR initiatives in India
LOCATION:
DESCRIPTION:
DTSTART:20230524T000000Z
DTEND:20230524T000000Z
URL;VALUE=URI:
DTSTAMP:20260424T024022Z
UID:69ead8162c14e
END:VEVENT
END:VCALENDAR