BEGIN:VCALENDAR
VERSION:2.0
PRODID:-//hacksw/handcal//NONSGML v1.0//EN
CALSCALE:GREGORIAN
BEGIN:VEVENT
SUMMARY:Improving smallholder farmers’ and NGOs’ access to genebank materials (Spanish/English session)
LOCATION:
DESCRIPTION:
DTSTART:20230907T000000Z
DTEND:20230907T000000Z
URL;VALUE=URI:
DTSTAMP:20260420T060637Z
UID:69e5c26d11cc2
END:VEVENT
END:VCALENDAR