BEGIN:VCALENDAR
VERSION:2.0
PRODID:-//hacksw/handcal//NONSGML v1.0//EN
CALSCALE:GREGORIAN
BEGIN:VEVENT
SUMMARY:International Day of Plant Health
LOCATION:
DESCRIPTION:
DTSTART:20240512T000000Z
DTEND:20240512T000000Z
URL;VALUE=URI:
DTSTAMP:20260420T153247Z
UID:69e6471f0438a
END:VEVENT
END:VCALENDAR