BEGIN:VCALENDAR
VERSION:2.0
PRODID:-//hacksw/handcal//NONSGML v1.0//EN
CALSCALE:GREGORIAN
BEGIN:VEVENT
SUMMARY:2nd NARES-CGIAR Genetic Innovation Leadership Meeting
LOCATION:
DESCRIPTION:
DTSTART:20231026T000000Z
DTEND:20231026T000000Z
URL;VALUE=URI:
DTSTAMP:20260420T102724Z
UID:69e5ff8c31970
END:VEVENT
END:VCALENDAR