BEGIN:VCALENDAR
VERSION:2.0
PRODID:-//hacksw/handcal//NONSGML v1.0//EN
CALSCALE:GREGORIAN
BEGIN:VEVENT
SUMMARY:Earth Day 2024
LOCATION:
DESCRIPTION:
DTSTART:20240422T000000Z
DTEND:20240422T000000Z
URL;VALUE=URI:
DTSTAMP:20260420T130408Z
UID:69e62448b68ca
END:VEVENT
END:VCALENDAR