BEGIN:VCALENDAR
VERSION:2.0
PRODID:-//hacksw/handcal//NONSGML v1.0//EN
CALSCALE:GREGORIAN
BEGIN:VEVENT
SUMMARY:Deepening Social Protection Systems: Enhancing livelihoods and health in Ethiopia
LOCATION:
DESCRIPTION:
DTSTART:20240417T000000Z
DTEND:20240417T000000Z
URL;VALUE=URI:
DTSTAMP:20260420T224331Z
UID:69e6ac1364ba0
END:VEVENT
END:VCALENDAR