BEGIN:VCALENDAR
VERSION:2.0
PRODID:-//hacksw/handcal//NONSGML v1.0//EN
CALSCALE:GREGORIAN
BEGIN:VEVENT
SUMMARY:Dairy and Nutrition in the Global South: Potential\, Progress\, and Obstacles Ahead
LOCATION:
DESCRIPTION:
DTSTART:20240424T000000Z
DTEND:20240424T000000Z
URL;VALUE=URI:
DTSTAMP:20260421T053030Z
UID:69e70b765cff3
END:VEVENT
END:VCALENDAR