BEGIN:VCALENDAR
VERSION:2.0
PRODID:-//hacksw/handcal//NONSGML v1.0//EN
CALSCALE:GREGORIAN
BEGIN:VEVENT
SUMMARY:Agriculture\, Biodiversity and Food Security: From Commitments to Actions
LOCATION:
DESCRIPTION:
DTSTART:20240502T000000Z
DTEND:20240502T000000Z
URL;VALUE=URI:
DTSTAMP:20260421T071125Z
UID:69e7231d7026e
END:VEVENT
END:VCALENDAR