BEGIN:VCALENDAR
VERSION:2.0
PRODID:-//hacksw/handcal//NONSGML v1.0//EN
CALSCALE:GREGORIAN
BEGIN:VEVENT
SUMMARY:CGIAR @ Global Solutions Summit 2024
LOCATION:
DESCRIPTION:
DTSTART:20240506T000000Z
DTEND:20240507T000000Z
URL;VALUE=URI:
DTSTAMP:20260420T134059Z
UID:69e62cebaed57
END:VEVENT
END:VCALENDAR