BEGIN:VCALENDAR
VERSION:2.0
PRODID:-//hacksw/handcal//NONSGML v1.0//EN
CALSCALE:GREGORIAN
BEGIN:VEVENT
SUMMARY:Sudan at a Crossroads: Food Systems\, Hunger\, and Humanitarian Aid During Civil Conflict
LOCATION:
DESCRIPTION:
DTSTART:20240502T000000Z
DTEND:20240502T000000Z
URL;VALUE=URI:
DTSTAMP:20260420T173701Z
UID:69e6643dca358
END:VEVENT
END:VCALENDAR