BEGIN:VCALENDAR
VERSION:2.0
PRODID:-//hacksw/handcal//NONSGML v1.0//EN
CALSCALE:GREGORIAN
BEGIN:VEVENT
SUMMARY:World Water Forum 2024
LOCATION:
DESCRIPTION:
DTSTART:20240518T000000Z
DTEND:20240525T000000Z
URL;VALUE=URI:
DTSTAMP:20260421T070515Z
UID:69e721ab74e76
END:VEVENT
END:VCALENDAR