BEGIN:VCALENDAR
VERSION:2.0
PRODID:-//hacksw/handcal//NONSGML v1.0//EN
CALSCALE:GREGORIAN
BEGIN:VEVENT
SUMMARY:Globalization of the Bioeconomy: Recent Trends and Drivers of Bioeconomy Programs and Policies
LOCATION:
DESCRIPTION:
DTSTART:20240507T000000Z
DTEND:20240507T000000Z
URL;VALUE=URI:
DTSTAMP:20260420T222747Z
UID:69e6a8633bf6d
END:VEVENT
END:VCALENDAR