BEGIN:VCALENDAR
VERSION:2.0
PRODID:-//hacksw/handcal//NONSGML v1.0//EN
CALSCALE:GREGORIAN
BEGIN:VEVENT
SUMMARY:CGIAR @ the 9th STI Forum
LOCATION:
DESCRIPTION:
DTSTART:20240509T000000Z
DTEND:20240510T000000Z
URL;VALUE=URI:
DTSTAMP:20260420T165327Z
UID:69e65a0731300
END:VEVENT
END:VCALENDAR