BEGIN:VCALENDAR
VERSION:2.0
PRODID:-//hacksw/handcal//NONSGML v1.0//EN
CALSCALE:GREGORIAN
BEGIN:VEVENT
SUMMARY:What does climate change mean for the future of agriculture? Insights from the IMPACT modeling system.
LOCATION:
DESCRIPTION:
DTSTART:20240515T000000Z
DTEND:20240515T000000Z
URL;VALUE=URI:
DTSTAMP:20260421T053035Z
UID:69e70b7b4fd80
END:VEVENT
END:VCALENDAR