BEGIN:VCALENDAR
VERSION:2.0
PRODID:-//hacksw/handcal//NONSGML v1.0//EN
CALSCALE:GREGORIAN
BEGIN:VEVENT
SUMMARY:100 Years of the International Seed Federation
LOCATION:
DESCRIPTION:
DTSTART:20240527T000000Z
DTEND:20240529T000000Z
URL;VALUE=URI:
DTSTAMP:20260421T070426Z
UID:69e7217a55c28
END:VEVENT
END:VCALENDAR