BEGIN:VCALENDAR
VERSION:2.0
PRODID:-//hacksw/handcal//NONSGML v1.0//EN
CALSCALE:GREGORIAN
BEGIN:VEVENT
SUMMARY:Accelerating International Cooperation on Climate-Friendly Alternative Proteins
LOCATION:
DESCRIPTION:
DTSTART:20240521T000000Z
DTEND:20240525T000000Z
URL;VALUE=URI:
DTSTAMP:20260421T070603Z
UID:69e721db02265
END:VEVENT
END:VCALENDAR