BEGIN:VCALENDAR
VERSION:2.0
PRODID:-//hacksw/handcal//NONSGML v1.0//EN
CALSCALE:GREGORIAN
BEGIN:VEVENT
SUMMARY:The Global Biodiversity Framework : Building Scientific Evidence to Support the Operationalization of the Kunming-Montreal Global Biodiversity Framework
LOCATION:
DESCRIPTION:
DTSTART:20240510T000000Z
DTEND:20240510T000000Z
URL;VALUE=URI:
DTSTAMP:20260425T203650Z
UID:69ed25e2b7267
END:VEVENT
END:VCALENDAR