BEGIN:VCALENDAR
VERSION:2.0
PRODID:-//hacksw/handcal//NONSGML v1.0//EN
CALSCALE:GREGORIAN
BEGIN:VEVENT
SUMMARY:BE EU2024 Conference
LOCATION:
DESCRIPTION:
DTSTART:20240523T000000Z
DTEND:20240523T000000Z
URL;VALUE=URI:
DTSTAMP:20260420T222752Z
UID:69e6a86808d63
END:VEVENT
END:VCALENDAR