BEGIN:VCALENDAR
VERSION:2.0
PRODID:-//hacksw/handcal//NONSGML v1.0//EN
CALSCALE:GREGORIAN
BEGIN:VEVENT
SUMMARY:Global Food Innovation Meeting (WEF)
LOCATION:
DESCRIPTION:
DTSTART:20240513T000000Z
DTEND:20240515T000000Z
URL;VALUE=URI:
DTSTAMP:20260421T053025Z
UID:69e70b71948f3
END:VEVENT
END:VCALENDAR