BEGIN:VCALENDAR
VERSION:2.0
PRODID:-//hacksw/handcal//NONSGML v1.0//EN
CALSCALE:GREGORIAN
BEGIN:VEVENT
SUMMARY:Webinar: Integrated water resources management for water\, energy\, and food security in the Eastern Nile Basin
LOCATION:
DESCRIPTION:
DTSTART:20240612T000000Z
DTEND:20240612T000000Z
URL;VALUE=URI:
DTSTAMP:20260420T101048Z
UID:69e5fba8234cd
END:VEVENT
END:VCALENDAR