BEGIN:VCALENDAR
VERSION:2.0
PRODID:-//hacksw/handcal//NONSGML v1.0//EN
CALSCALE:GREGORIAN
BEGIN:VEVENT
SUMMARY:County Climate Smart Agriculture Multi-stakeholder&#8217\;s Platform Creation and Climate Security Course Pilot
LOCATION:
DESCRIPTION:
DTSTART:20240527T000000Z
DTEND:20240530T000000Z
URL;VALUE=URI:
DTSTAMP:20260421T053040Z
UID:69e70b80539ef
END:VEVENT
END:VCALENDAR