BEGIN:VCALENDAR
VERSION:2.0
PRODID:-//hacksw/handcal//NONSGML v1.0//EN
CALSCALE:GREGORIAN
BEGIN:VEVENT
SUMMARY:2024 African Development Bank Annual Meetings
LOCATION:
DESCRIPTION:
DTSTART:20240527T000000Z
DTEND:20240531T000000Z
URL;VALUE=URI:
DTSTAMP:20260420T201213Z
UID:69e6889d4004a
END:VEVENT
END:VCALENDAR