BEGIN:VCALENDAR
VERSION:2.0
PRODID:-//hacksw/handcal//NONSGML v1.0//EN
CALSCALE:GREGORIAN
BEGIN:VEVENT
SUMMARY:Participatory Scenario Development in East and Southern Africa
LOCATION:
DESCRIPTION:
DTSTART:20240613T000000Z
DTEND:20240614T000000Z
URL;VALUE=URI:
DTSTAMP:20260420T082030Z
UID:69e5e1ce329d5
END:VEVENT
END:VCALENDAR