BEGIN:VCALENDAR
VERSION:2.0
PRODID:-//hacksw/handcal//NONSGML v1.0//EN
CALSCALE:GREGORIAN
BEGIN:VEVENT
SUMMARY:Towards a Common Vision of Climate\, Peace\, and Security in Somalia
LOCATION:
DESCRIPTION:
DTSTART:20240603T000000Z
DTEND:20240605T000000Z
URL;VALUE=URI:
DTSTAMP:20260420T173741Z
UID:69e664656dd5a
END:VEVENT
END:VCALENDAR