BEGIN:VCALENDAR
VERSION:2.0
PRODID:-//hacksw/handcal//NONSGML v1.0//EN
CALSCALE:GREGORIAN
BEGIN:VEVENT
SUMMARY:Tackling the Hidden Costs of our Food Systems
LOCATION:
DESCRIPTION:
DTSTART:20240606T000000Z
DTEND:20240606T000000Z
URL;VALUE=URI:
DTSTAMP:20260420T082036Z
UID:69e5e1d476b94
END:VEVENT
END:VCALENDAR