BEGIN:VCALENDAR
VERSION:2.0
PRODID:-//hacksw/handcal//NONSGML v1.0//EN
CALSCALE:GREGORIAN
BEGIN:VEVENT
SUMMARY:How do we prioritize agrifood system policies and investments? Insights from the RIAPA modeling system
LOCATION:
DESCRIPTION:
DTSTART:20240612T000000Z
DTEND:20240612T000000Z
URL;VALUE=URI:
DTSTAMP:20260420T102927Z
UID:69e60007798f2
END:VEVENT
END:VCALENDAR