BEGIN:VCALENDAR
VERSION:2.0
PRODID:-//hacksw/handcal//NONSGML v1.0//EN
CALSCALE:GREGORIAN
BEGIN:VEVENT
SUMMARY:2024 World Farmers Organization Annual Meeting
LOCATION:
DESCRIPTION:
DTSTART:20240617T000000Z
DTEND:20240621T000000Z
URL;VALUE=URI:
DTSTAMP:20260420T150738Z
UID:69e6413a7f6f6
END:VEVENT
END:VCALENDAR