BEGIN:VCALENDAR
VERSION:2.0
PRODID:-//hacksw/handcal//NONSGML v1.0//EN
CALSCALE:GREGORIAN
BEGIN:VEVENT
SUMMARY:OPEC Fund Development Forum
LOCATION:
DESCRIPTION:
DTSTART:20240625T000000Z
DTEND:20240625T000000Z
URL;VALUE=URI:
DTSTAMP:20260420T222733Z
UID:69e6a8551edea
END:VEVENT
END:VCALENDAR