BEGIN:VCALENDAR
VERSION:2.0
PRODID:-//hacksw/handcal//NONSGML v1.0//EN
CALSCALE:GREGORIAN
BEGIN:VEVENT
SUMMARY:International Symposium on Climate-Resilient Agri-Environmental Systems
LOCATION:
DESCRIPTION:
DTSTART:20240625T000000Z
DTEND:20240628T000000Z
URL;VALUE=URI:
DTSTAMP:20260424T135124Z
UID:69eb755ce3e78
END:VEVENT
END:VCALENDAR