BEGIN:VCALENDAR
VERSION:2.0
PRODID:-//hacksw/handcal//NONSGML v1.0//EN
CALSCALE:GREGORIAN
BEGIN:VEVENT
SUMMARY:20th Asian-Australasian Association of Animal Production Congress
LOCATION:
DESCRIPTION:
DTSTART:20240709T000000Z
DTEND:20240712T000000Z
URL;VALUE=URI:
DTSTAMP:20260421T053045Z
UID:69e70b8544264
END:VEVENT
END:VCALENDAR