BEGIN:VCALENDAR
VERSION:2.0
PRODID:-//hacksw/handcal//NONSGML v1.0//EN
CALSCALE:GREGORIAN
BEGIN:VEVENT
SUMMARY:2024 High-level Political Forum on Sustainable Development
LOCATION:
DESCRIPTION:
DTSTART:20240708T000000Z
DTEND:20240717T000000Z
URL;VALUE=URI:
DTSTAMP:20260420T102709Z
UID:69e5ff7db9216
END:VEVENT
END:VCALENDAR