BEGIN:VCALENDAR
VERSION:2.0
PRODID:-//hacksw/handcal//NONSGML v1.0//EN
CALSCALE:GREGORIAN
BEGIN:VEVENT
SUMMARY:How does agricultural productivity growth affect agrifood system transformation goals? Exploring trade-offs using IMPACT
LOCATION:
DESCRIPTION:
DTSTART:20240709T000000Z
DTEND:20240709T000000Z
URL;VALUE=URI:
DTSTAMP:20260421T074415Z
UID:69e72acf3393d
END:VEVENT
END:VCALENDAR