BEGIN:VCALENDAR
VERSION:2.0
PRODID:-//hacksw/handcal//NONSGML v1.0//EN
CALSCALE:GREGORIAN
BEGIN:VEVENT
SUMMARY:International Day of the World&#8217\;s Indigenous Peoples 2024
LOCATION:
DESCRIPTION:
DTSTART:20240808T000000Z
DTEND:20240809T000000Z
URL;VALUE=URI:
DTSTAMP:20260421T053050Z
UID:69e70b8a44ffc
END:VEVENT
END:VCALENDAR