BEGIN:VCALENDAR
VERSION:2.0
PRODID:-//hacksw/handcal//NONSGML v1.0//EN
CALSCALE:GREGORIAN
BEGIN:VEVENT
SUMMARY:Seed Equal Webinar Series: Introducing the Seeds2B Improved Variety Commercialization Toolkit &#8211\; narrowing the gap between breeding and commercialization of improved varieties
LOCATION:
DESCRIPTION:
DTSTART:20240725T000000Z
DTEND:20240725T000000Z
URL;VALUE=URI:
DTSTAMP:20260424T034636Z
UID:69eae79c1b0fa
END:VEVENT
END:VCALENDAR