BEGIN:VCALENDAR
VERSION:2.0
PRODID:-//hacksw/handcal//NONSGML v1.0//EN
CALSCALE:GREGORIAN
BEGIN:VEVENT
SUMMARY:RUFORUM Triennial Scientific Conference
LOCATION:
DESCRIPTION:
DTSTART:20240812T000000Z
DTEND:20240816T000000Z
URL;VALUE=URI:
DTSTAMP:20260420T112621Z
UID:69e60d5d8fbf0
END:VEVENT
END:VCALENDAR