BEGIN:VCALENDAR
VERSION:2.0
PRODID:-//hacksw/handcal//NONSGML v1.0//EN
CALSCALE:GREGORIAN
BEGIN:VEVENT
SUMMARY:Experience Exchange Event: Engendering the Water\, Energy\, Food\, and Ecosystems (WEFE) nexus approach to sustainable development
LOCATION:
DESCRIPTION:
DTSTART:20240731T000000Z
DTEND:20240731T000000Z
URL;VALUE=URI:
DTSTAMP:20260421T070411Z
UID:69e7216b04178
END:VEVENT
END:VCALENDAR