BEGIN:VCALENDAR
VERSION:2.0
PRODID:-//hacksw/handcal//NONSGML v1.0//EN
CALSCALE:GREGORIAN
BEGIN:VEVENT
SUMMARY:12th Global Dialogue Platform on Anticipatory Humanitarian Action
LOCATION:
DESCRIPTION:
DTSTART:20241022T000000Z
DTEND:20241024T000000Z
URL;VALUE=URI:
DTSTAMP:20260420T141542Z
UID:69e6350e1fb9d
END:VEVENT
END:VCALENDAR